BEGIN:VCALENDAR
VERSION:2.0
PRODID:-//Tekstilci//Etkinlikler//TR
CALSCALE:GREGORIAN
METHOD:PUBLISH
BEGIN:VEVENT
UID:20044@www.tekstilcirehberi.com
DTSTAMP:20260419T145540Z
SUMMARY:Texhibition İstanbul Kumaş\, Denim\, Tekstil Aksesuarları Ve İplik Fuarı
DTSTART;VALUE=DATE:20260304
DTEND;VALUE=DATE:20260307
LOCATION:İstanbul
DESCRIPTION:<p>Kumaş\, Denim\, Tekstil Aksesuarları Ve İplik   Dokuma\, Örme Kumaşlar\, Denim\, Konfeksiyon Yan Sanayi Ürünleri\, İplik</p>
END:VEVENT
END:VCALENDAR
