BEGIN:VCALENDAR
VERSION:2.0
PRODID:-//Tekstilci//Etkinlikler//TR
CALSCALE:GREGORIAN
METHOD:PUBLISH
BEGIN:VEVENT
UID:20048@www.tekstilcirehberi.com
DTSTAMP:20260419T173220Z
SUMMARY:Ifco İstanbul Fashion Connection Hazır Giyim Ve Moda Fuarı
DTSTART;VALUE=DATE:20260819
DTEND;VALUE=DATE:20260822
LOCATION:İstanbul
DESCRIPTION:<p>Hazır Giyim\, Moda\, Konfeksiyon\, Deri Ve Linexpo İç Giyim  Kadın\, Erkek\, Çocuk\, Hazır Giyim\, Gelinlik\, Damatlık\, Çorap\, İç Giyim\, Denim\, Spor Giyim\, Abiye\, Deri Ve Kürk Konfeksiyon\, Ayakkabı\, Saraciye</p>
END:VEVENT
END:VCALENDAR
