BEGIN:VCALENDAR
VERSION:2.0
PRODID:-//Tekstilci//Etkinlikler//TR
CALSCALE:GREGORIAN
METHOD:PUBLISH
BEGIN:VEVENT
UID:20081@www.tekstilcirehberi.com
DTSTAMP:20260420T071235Z
SUMMARY:LAS VEGAS MARKET 2026
DTSTART;VALUE=DATE:20260125
DTEND;VALUE=DATE:20260130
LOCATION:LAS VEGAS
DESCRIPTION:<p>Ev Tekstili ve Ev Eşyaları</p>
END:VEVENT
END:VCALENDAR
