BEGIN:VCALENDAR
VERSION:2.0
PRODID:-//Tekstilci//Etkinlikler//TR
CALSCALE:GREGORIAN
METHOD:PUBLISH
BEGIN:VEVENT
UID:20082@www.tekstilcirehberi.com
DTSTAMP:20260420T072304Z
SUMMARY:SPORT ACHAT HIVER
DTSTART;VALUE=DATE:20260126
DTEND;VALUE=DATE:20260129
LOCATION:LYON
DESCRIPTION:<p>Tekstil\, Konfeksiyon\, Hazır Giyim\, Deri ve Teknolojileri\, Ayakkabı</p>
END:VEVENT
END:VCALENDAR
