BEGIN:VCALENDAR
VERSION:2.0
PRODID:-//Tekstilci//Etkinlikler//TR
CALSCALE:GREGORIAN
METHOD:PUBLISH
BEGIN:VEVENT
UID:20086@www.tekstilcirehberi.com
DTSTAMP:20260419T172347Z
SUMMARY:CIFF &#8211\; COPENHAGEN INTERNATIONAL FASHION FAIR 2026 I
DTSTART;VALUE=DATE:20260127
DTEND;VALUE=DATE:20260130
LOCATION:KOPENHAG
DESCRIPTION:<p>Tekstil\, Konfeksiyon\, Hazır Giyim\, Deri ve Teknolojileri</p>
END:VEVENT
END:VCALENDAR
