BEGIN:VCALENDAR
VERSION:2.0
PRODID:-//Tekstilci//Etkinlikler//TR
CALSCALE:GREGORIAN
METHOD:PUBLISH
BEGIN:VEVENT
UID:20087@www.tekstilcirehberi.com
DTSTAMP:20260419T172522Z
SUMMARY:THE 49TH INTERNATIONAL FESTIVAL OF VOGUE KYIV FASHION 2026
DTSTART;VALUE=DATE:20260128
DTEND;VALUE=DATE:20260131
LOCATION:KİEV
DESCRIPTION:<p>Tekstil\, Konfeksiyon\, Hazır Giyim\, Deri ve Teknolojileri</p>
END:VEVENT
END:VCALENDAR
