BEGIN:VCALENDAR
VERSION:2.0
PRODID:-//Tekstilci//Etkinlikler//TR
CALSCALE:GREGORIAN
METHOD:PUBLISH
BEGIN:VEVENT
UID:20090@www.tekstilcirehberi.com
DTSTAMP:20260419T162535Z
SUMMARY:ATHENS FASHION TRADE SHOW 2026
DTSTART;VALUE=DATE:20260129
DTEND;VALUE=DATE:20260202
LOCATION:ATİNA
DESCRIPTION:<p>Tekstil\, Konfeksiyon\, Hazır Giyim\, Deri ve Teknolojileri</p>
END:VEVENT
END:VCALENDAR
