BEGIN:VCALENDAR
VERSION:2.0
PRODID:-//Tekstilci//Etkinlikler//TR
CALSCALE:GREGORIAN
METHOD:PUBLISH
BEGIN:VEVENT
UID:20091@www.tekstilcirehberi.com
DTSTAMP:20260419T172737Z
SUMMARY:CHICAGO COLLECTIVE  MEN&#8217\;S
DTSTART;VALUE=DATE:20260131
DTEND;VALUE=DATE:20260204
LOCATION:CHİCAGO
DESCRIPTION:<p>Tekstil\, Konfeksiyon\, Hazır Giyim\, Deri ve Teknolojileri</p>
END:VEVENT
END:VCALENDAR
