BEGIN:VCALENDAR
VERSION:2.0
PRODID:-//Tekstilci//Etkinlikler//TR
CALSCALE:GREGORIAN
METHOD:PUBLISH
BEGIN:VEVENT
UID:20092@www.tekstilcirehberi.com
DTSTAMP:20260419T172940Z
SUMMARY:INDIA INTERNATIONAL LEATHER FAIR (IILF) 2026
DTSTART;VALUE=DATE:20260201
DTEND;VALUE=DATE:20260204
LOCATION:CHENNAİ
DESCRIPTION:<p>Tekstil\, Konfeksiyon\, Hazır Giyim\, Deri ve Teknolojileri</p>
END:VEVENT
END:VCALENDAR
