BEGIN:VCALENDAR
VERSION:2.0
PRODID:-//Tekstilci//Etkinlikler//TR
CALSCALE:GREGORIAN
METHOD:PUBLISH
BEGIN:VEVENT
UID:20093@www.tekstilcirehberi.com
DTSTAMP:20260419T172804Z
SUMMARY:CURVE NEW YORK 2026
DTSTART;VALUE=DATE:20260201
DTEND;VALUE=DATE:20260204
LOCATION:NEW YORK
DESCRIPTION:<p>Tekstil\, Konfeksiyon\, Hazır Giyim\, Deri ve Teknolojileri</p>
END:VEVENT
END:VCALENDAR
