BEGIN:VCALENDAR
VERSION:2.0
PRODID:-//Tekstilci//Etkinlikler//TR
CALSCALE:GREGORIAN
METHOD:PUBLISH
BEGIN:VEVENT
UID:20094@www.tekstilcirehberi.com
DTSTAMP:20260419T172723Z
SUMMARY:HARROGATE FASHION WEEK
DTSTART;VALUE=DATE:20260201
DTEND;VALUE=DATE:20260204
LOCATION:HARROGATE
DESCRIPTION:<p>TEKSTİL</p>
END:VEVENT
END:VCALENDAR
