BEGIN:VCALENDAR
VERSION:2.0
PRODID:-//Tekstilci//Etkinlikler//TR
CALSCALE:GREGORIAN
METHOD:PUBLISH
BEGIN:VEVENT
UID:20095@www.tekstilcirehberi.com
DTSTAMP:20260419T172710Z
SUMMARY:HARROGATE FASHION WEEK 2026-1
DTSTART;VALUE=DATE:20260201
DTEND;VALUE=DATE:20260204
LOCATION:HARROGATE
DESCRIPTION:<p>Tekstil\, Konfeksiyon\, Hazır Giyim\, Deri ve Teknolojileri</p>
END:VEVENT
END:VCALENDAR
