BEGIN:VCALENDAR
VERSION:2.0
PRODID:-//Tekstilci//Etkinlikler//TR
CALSCALE:GREGORIAN
METHOD:PUBLISH
BEGIN:VEVENT
UID:20096@www.tekstilcirehberi.com
DTSTAMP:20260419T172912Z
SUMMARY:TEXWORLD PARIS 2026 SPRING
DTSTART;VALUE=DATE:20260202
DTEND;VALUE=DATE:20260205
LOCATION:PARİS
DESCRIPTION:<p>Tekstil\, Konfeksiyon\, Hazır Giyim\, Deri ve Teknolojileri</p>
END:VEVENT
END:VCALENDAR
