BEGIN:VCALENDAR
VERSION:2.0
PRODID:-//Tekstilci//Etkinlikler//TR
CALSCALE:GREGORIAN
METHOD:PUBLISH
BEGIN:VEVENT
UID:20100@www.tekstilcirehberi.com
DTSTAMP:20260419T161915Z
SUMMARY:IFLS + EICI 2026-I
DTSTART;VALUE=DATE:20260203
DTEND;VALUE=DATE:20260207
LOCATION:BOGOTA
DESCRIPTION:<p>TEKSTİL\, DERİ ve TEKNOLOJİLERİ</p>
END:VEVENT
END:VCALENDAR
