BEGIN:VCALENDAR
VERSION:2.0
PRODID:-//Tekstilci//Etkinlikler//TR
CALSCALE:GREGORIAN
METHOD:PUBLISH
BEGIN:VEVENT
UID:20101@www.tekstilcirehberi.com
DTSTAMP:20260419T160722Z
SUMMARY:PREMIERE VISION PARIS  2026-1 (LEATHER\, YARNS\, ACCESSORIES\, DESIGNS)
DTSTART;VALUE=DATE:20260203
DTEND;VALUE=DATE:20260206
LOCATION:PARİS
DESCRIPTION:<p>TEKSTİL\, KONFEKSİYON\, HAZIR GİYİM\, DERİ VE TEKNOLOJİLERİ</p>
END:VEVENT
END:VCALENDAR
