BEGIN:VCALENDAR
VERSION:2.0
PRODID:-//Tekstilci//Etkinlikler//TR
CALSCALE:GREGORIAN
METHOD:PUBLISH
BEGIN:VEVENT
UID:20102@www.tekstilcirehberi.com
DTSTAMP:20260419T161129Z
SUMMARY:SPINEXPO PARIS
DTSTART;VALUE=DATE:20260203
DTEND;VALUE=DATE:20260205
LOCATION:PARİS
DESCRIPTION:<p>Tekstil\, Konfeksiyon\, Hazır Giyim\, Deri ve Teknolojileri</p>
END:VEVENT
END:VCALENDAR
