BEGIN:VCALENDAR
VERSION:2.0
PRODID:-//Tekstilci//Etkinlikler//TR
CALSCALE:GREGORIAN
METHOD:PUBLISH
BEGIN:VEVENT
UID:20103@www.tekstilcirehberi.com
DTSTAMP:20260419T160615Z
SUMMARY:MOMAD MADRID 2026 (FEBRUARY EDITION)
DTSTART;VALUE=DATE:20260205
DTEND;VALUE=DATE:20260208
LOCATION:MADRİD
DESCRIPTION:<p>TEKSTİL\, KONFEKSİYON\, HAZIR GİYİM\, DERİ ve TEKNOLOJİLERİ</p>
END:VEVENT
END:VCALENDAR
