BEGIN:VCALENDAR
VERSION:2.0
PRODID:-//Tekstilci//Etkinlikler//TR
CALSCALE:GREGORIAN
METHOD:PUBLISH
BEGIN:VEVENT
UID:20104@www.tekstilcirehberi.com
DTSTAMP:20260419T160534Z
SUMMARY:DHAKA INT&#8217\;L TEXTİLE &#038\; GARMENT MACHİNERY EXHİBİTİON (DTG) 2026
DTSTART;VALUE=DATE:20260205
DTEND;VALUE=DATE:20260209
LOCATION:DAKKA
DESCRIPTION:<p>Tekstil\, Konfeksiyon\, Hazır Giyim\, Deri ve Teknolojileri</p>
END:VEVENT
END:VCALENDAR
