BEGIN:VCALENDAR
VERSION:2.0
PRODID:-//Tekstilci//Etkinlikler//TR
CALSCALE:GREGORIAN
METHOD:PUBLISH
BEGIN:VEVENT
UID:20105@www.tekstilcirehberi.com
DTSTAMP:20260419T160933Z
SUMMARY:PLAYTIME KID&#8217\;S HUB NEW YORK 2026
DTSTART;VALUE=DATE:20260208
DTEND;VALUE=DATE:20260211
LOCATION:NEW YORK
DESCRIPTION:<p>Tekstil\, Konfeksiyon\, Hazır Giyim\, Deri ve Teknolojileri</p>
END:VEVENT
END:VCALENDAR
