BEGIN:VCALENDAR
VERSION:2.0
PRODID:-//Tekstilci//Etkinlikler//TR
CALSCALE:GREGORIAN
METHOD:PUBLISH
BEGIN:VEVENT
UID:20106@www.tekstilcirehberi.com
DTSTAMP:20260419T160802Z
SUMMARY:SCOOP INTERNATIONAL 2026
DTSTART;VALUE=DATE:20260208
DTEND;VALUE=DATE:20260211
LOCATION:LONDRA
DESCRIPTION:<p>Tekstil\, Konfeksiyon\, Hazır Giyim\, Deri ve Teknolojileri</p>
END:VEVENT
END:VCALENDAR
