BEGIN:VCALENDAR
VERSION:2.0
PRODID:-//Tekstilci//Etkinlikler//TR
CALSCALE:GREGORIAN
METHOD:PUBLISH
BEGIN:VEVENT
UID:20109@www.tekstilcirehberi.com
DTSTAMP:20260419T160630Z
SUMMARY:FILO 2026-I (FILO 65TH EDITION)
DTSTART;VALUE=DATE:20260211
DTEND;VALUE=DATE:20260213
LOCATION:MİLANO
DESCRIPTION:<p>İplik\, Lif\, Kumaş\, Teknik Tekstil\, vb.</p>
END:VEVENT
END:VCALENDAR
