BEGIN:VCALENDAR
VERSION:2.0
PRODID:-//Tekstilci//Etkinlikler//TR
CALSCALE:GREGORIAN
METHOD:PUBLISH
BEGIN:VEVENT
UID:20110@www.tekstilcirehberi.com
DTSTAMP:20260419T161143Z
SUMMARY:THE ATLANTA SHOE MARKET 2026
DTSTART;VALUE=DATE:20260214
DTEND;VALUE=DATE:20260217
LOCATION:ATLANTA
DESCRIPTION:<p>Tekstil\, Konfeksiyon\, Hazır Giyim\, Deri ve Teknolojileri</p>
END:VEVENT
END:VCALENDAR
