BEGIN:VCALENDAR
VERSION:2.0
PRODID:-//Tekstilci//Etkinlikler//TR
CALSCALE:GREGORIAN
METHOD:PUBLISH
BEGIN:VEVENT
UID:20111@www.tekstilcirehberi.com
DTSTAMP:20260419T161652Z
SUMMARY:LINGERIE SHOW-FORUM SPRING 2026
DTSTART;VALUE=DATE:20260216
DTEND;VALUE=DATE:20260222
LOCATION:MOSKOVA
DESCRIPTION:<p>Tekstil\, Konfeksiyon\, Hazır Giyim\,<br />\\n Deri ve Teknolojileri</p>
END:VEVENT
END:VCALENDAR
