BEGIN:VCALENDAR
VERSION:2.0
PRODID:-//Tekstilci//Etkinlikler//TR
CALSCALE:GREGORIAN
METHOD:PUBLISH
BEGIN:VEVENT
UID:20112@www.tekstilcirehberi.com
DTSTAMP:20260419T161942Z
SUMMARY:WOMENSWEAR İN NEVADA 2026 (WWIN 2026/1)
DTSTART;VALUE=DATE:20260216
DTEND;VALUE=DATE:20260220
LOCATION:LAS VEGAS
DESCRIPTION:<p>Tekstil\, Konfeksiyon\, Hazır Giyim\, Deri ve Teknolojileri</p>
END:VEVENT
END:VCALENDAR
