BEGIN:VCALENDAR
VERSION:2.0
PRODID:-//Tekstilci//Etkinlikler//TR
CALSCALE:GREGORIAN
METHOD:PUBLISH
BEGIN:VEVENT
UID:20115@www.tekstilcirehberi.com
DTSTAMP:20260419T161638Z
SUMMARY:TEXTILE SALON MOSCOW
DTSTART;VALUE=DATE:20260217
DTEND;VALUE=DATE:20260220
LOCATION:MOSKOVA
DESCRIPTION:<p>Tekstil\, Konfeksiyon\, Hazır Giyim ve Deri Teknolojileri</p>
END:VEVENT
END:VCALENDAR
