BEGIN:VCALENDAR
VERSION:2.0
PRODID:-//Tekstilci//Etkinlikler//TR
CALSCALE:GREGORIAN
METHOD:PUBLISH
BEGIN:VEVENT
UID:20116@www.tekstilcirehberi.com
DTSTAMP:20260419T162154Z
SUMMARY:CHILD AND JUNIOR FASHION 2026/1
DTSTART;VALUE=DATE:20260218
DTEND;VALUE=DATE:20260222
LOCATION:MOSKOVA
DESCRIPTION:<p>Tekstil\, Hazır Giyim \, Deri ve Teknolojileri</p>
END:VEVENT
END:VCALENDAR
