BEGIN:VCALENDAR
VERSION:2.0
PRODID:-//Tekstilci//Etkinlikler//TR
CALSCALE:GREGORIAN
METHOD:PUBLISH
BEGIN:VEVENT
UID:20117@www.tekstilcirehberi.com
DTSTAMP:20260419T161625Z
SUMMARY:EXPO/TECNO MUEBLE INTERNACIONAL
DTSTART;VALUE=DATE:20260218
DTEND;VALUE=DATE:20260222
LOCATION:GUADALAJARA
DESCRIPTION:<p>Mobilya ve İlişkili Tekstil Ürünleri</p>
END:VEVENT
END:VCALENDAR
