BEGIN:VCALENDAR
VERSION:2.0
PRODID:-//Tekstilci//Etkinlikler//TR
CALSCALE:GREGORIAN
METHOD:PUBLISH
BEGIN:VEVENT
UID:20118@www.tekstilcirehberi.com
DTSTAMP:20260419T160643Z
SUMMARY:MIPEL 2026 (MİPEL 129)
DTSTART;VALUE=DATE:20260222
DTEND;VALUE=DATE:20260225
LOCATION:MİLANO
DESCRIPTION:<p>Tekstil\, Konfeksiyon\, Hazır Giyim\, Deri ve Teknolojileri</p>
END:VEVENT
END:VCALENDAR
