BEGIN:VCALENDAR
VERSION:2.0
PRODID:-//Tekstilci//Etkinlikler//TR
CALSCALE:GREGORIAN
METHOD:PUBLISH
BEGIN:VEVENT
UID:20121@www.tekstilcirehberi.com
DTSTAMP:20260419T160601Z
SUMMARY:Brand Assembly New York 2026
DTSTART;VALUE=DATE:20260222
DTEND;VALUE=DATE:20260225
LOCATION:New York
DESCRIPTION:<p>Tekstil\, Konfeksiyon\, Hazır Giyim\, Deri ve Teknolojileri</p>
END:VEVENT
END:VCALENDAR
