BEGIN:VCALENDAR
VERSION:2.0
PRODID:-//Tekstilci//Etkinlikler//TR
CALSCALE:GREGORIAN
METHOD:PUBLISH
BEGIN:VEVENT
UID:20123@www.tekstilcirehberi.com
DTSTAMP:20260419T162141Z
SUMMARY:VIATT 2026-VIETNAM INTERNATIONAL TRADE FAIR FOR APPAREL\, TEXTILE AND TEXTILE TECHNOLOGIES 2026
DTSTART;VALUE=DATE:20260226
DTEND;VALUE=DATE:20260301
LOCATION:HO CHİ MİNH
DESCRIPTION:<p>Tekstil\, Konfeksiyon\, Hazır Giyim ve Deri Teknolojileri</p>
END:VEVENT
END:VCALENDAR
