BEGIN:VCALENDAR
VERSION:2.0
PRODID:-//Tekstilci//Etkinlikler//TR
CALSCALE:GREGORIAN
METHOD:PUBLISH
BEGIN:VEVENT
UID:20124@www.tekstilcirehberi.com
DTSTAMP:20260419T160548Z
SUMMARY:WHITE MILANO 2026 (FEBRUARY EDİTİON)
DTSTART;VALUE=DATE:20260226
DTEND;VALUE=DATE:20260301
LOCATION:MİLANO
DESCRIPTION:<p>Tekstil\, Konfeksiyon ve Hazır Giyim</p>
END:VEVENT
END:VCALENDAR
