BEGIN:VCALENDAR
VERSION:2.0
PRODID:-//Tekstilci//Etkinlikler//TR
CALSCALE:GREGORIAN
METHOD:PUBLISH
BEGIN:VEVENT
UID:20125@www.tekstilcirehberi.com
DTSTAMP:20260419T160736Z
SUMMARY:TWODAYS II
DTSTART;VALUE=DATE:20260301
DTEND;VALUE=DATE:20260303
LOCATION:DÜSSELDORF
DESCRIPTION:<p>Ayakkabi\,Hazir Giyim\, Konfeksiyon ve Tekstil</p>
END:VEVENT
END:VCALENDAR
