BEGIN:VCALENDAR
VERSION:2.0
PRODID:-//Tekstilci//Etkinlikler//TR
CALSCALE:GREGORIAN
METHOD:PUBLISH
BEGIN:VEVENT
UID:20127@www.tekstilcirehberi.com
DTSTAMP:20260419T150400Z
SUMMARY:GOTHAM APPAREL SHOW 2026
DTSTART;VALUE=DATE:20260303
DTEND;VALUE=DATE:20260305
LOCATION:NEW JERSEY
DESCRIPTION:<p>Tekstil\, İplik\, Kumaş\, Teksil Aksesuarları ve Ekipmanları</p>
END:VEVENT
END:VCALENDAR
