BEGIN:VCALENDAR
VERSION:2.0
PRODID:-//Tekstilci//Etkinlikler//TR
CALSCALE:GREGORIAN
METHOD:PUBLISH
BEGIN:VEVENT
UID:20129@www.tekstilcirehberi.com
DTSTAMP:20260419T145845Z
SUMMARY:TRANOI
DTSTART;VALUE=DATE:20260305
DTEND;VALUE=DATE:20260309
LOCATION:PARİS
DESCRIPTION:<p>TEKSTİL\, KONFEKSİYON\, HAZIR GİYİM\, DERİ ve TEKNOLOJİLERİ</p>
END:VEVENT
END:VCALENDAR
