BEGIN:VCALENDAR
VERSION:2.0
PRODID:-//Tekstilci//Etkinlikler//TR
CALSCALE:GREGORIAN
METHOD:PUBLISH
BEGIN:VEVENT
UID:20130@www.tekstilcirehberi.com
DTSTAMP:20260419T145541Z
SUMMARY:FUNCTIONAL TEXTILES SHANGHAI BY PERFORMANCE DAYS
DTSTART;VALUE=DATE:20260305
DTEND;VALUE=DATE:20260307
LOCATION:ŞANGAY
DESCRIPTION:<p>TEKSTİL\, KONFEKSİYON\, HAZIR GİYİM\, DERİ VE TEKNOLOJİLERİ</p>
END:VEVENT
END:VCALENDAR
