BEGIN:VCALENDAR
VERSION:2.0
PRODID:-//Tekstilci//Etkinlikler//TR
CALSCALE:GREGORIAN
METHOD:PUBLISH
BEGIN:VEVENT
UID:20131@www.tekstilcirehberi.com
DTSTAMP:20260419T133544Z
SUMMARY:KİD’S EXPO 2026
DTSTART;VALUE=DATE:20260307
DTEND;VALUE=DATE:20260309
LOCATION:RİGA
DESCRIPTION:<p>Çocuk tekstili\, bebek arabaları\, oyuncaklar\, mamalar\, hijyen ürünleri</p>
END:VEVENT
END:VCALENDAR
