BEGIN:VCALENDAR
VERSION:2.0
PRODID:-//Tekstilci//Etkinlikler//TR
CALSCALE:GREGORIAN
METHOD:PUBLISH
BEGIN:VEVENT
UID:20132@www.tekstilcirehberi.com
DTSTAMP:20260419T133048Z
SUMMARY:HOMETEX SHENZHEN 2026 (SPRİNG)
DTSTART;VALUE=DATE:20260307
DTEND;VALUE=DATE:20260311
LOCATION:SHENZEN
DESCRIPTION:<p>Tekstil\, Konfeksyion\, Hazır Giyim\, Deri ve Teknolojileri</p>
END:VEVENT
END:VCALENDAR
