BEGIN:VCALENDAR
VERSION:2.0
PRODID:-//Tekstilci//Etkinlikler//TR
CALSCALE:GREGORIAN
METHOD:PUBLISH
BEGIN:VEVENT
UID:20133@www.tekstilcirehberi.com
DTSTAMP:20260419T135250Z
SUMMARY:CENTRAL ASIA FASHION &#038\; ELITLINE 2026/1
DTSTART;VALUE=DATE:20260309
DTEND;VALUE=DATE:20260312
LOCATION:ALMATI
DESCRIPTION:<p>Tekstil\, Konfeksiyon\, Hazır Giyim\, Deri ve Teknolojileri</p>
END:VEVENT
END:VCALENDAR
