BEGIN:VCALENDAR
VERSION:2.0
PRODID:-//Tekstilci//Etkinlikler//TR
CALSCALE:GREGORIAN
METHOD:PUBLISH
BEGIN:VEVENT
UID:20138@www.tekstilcirehberi.com
DTSTAMP:20260419T135030Z
SUMMARY:ISPA EXPO 2026
DTSTART;VALUE=DATE:20260310
DTEND;VALUE=DATE:20260313
LOCATION:ORLANDO
DESCRIPTION:<p>Ev Tekstili ve Ev Eşyaları</p>
END:VEVENT
END:VCALENDAR
