BEGIN:VCALENDAR
VERSION:2.0
PRODID:-//Tekstilci//Etkinlikler//TR
CALSCALE:GREGORIAN
METHOD:PUBLISH
BEGIN:VEVENT
UID:20142@www.tekstilcirehberi.com
DTSTAMP:20260417T151730Z
SUMMARY:NATIONAL BRIDAL MARKET CHICAGO 2026/1
DTSTART;VALUE=DATE:20260315
DTEND;VALUE=DATE:20260318
LOCATION:CHİCAGO
DESCRIPTION:<p>Tekstil\, Konfeksiyon\, Hazır Giyim\, Deri ve Teknolojileri</p>
END:VEVENT
END:VCALENDAR
