BEGIN:VCALENDAR
VERSION:2.0
PRODID:-//Tekstilci//Etkinlikler//TR
CALSCALE:GREGORIAN
METHOD:PUBLISH
BEGIN:VEVENT
UID:20167@www.tekstilcirehberi.com
DTSTAMP:20260419T132048Z
SUMMARY:PROPOSTE 2026
DTSTART;VALUE=DATE:20260505
DTEND;VALUE=DATE:20260508
LOCATION:COMO
DESCRIPTION:<p>Ev Tekstili ve Ev Eşyaları</p>
END:VEVENT
END:VCALENDAR
