BEGIN:VCALENDAR
VERSION:2.0
PRODID:-//Tekstilci//Etkinlikler//TR
CALSCALE:GREGORIAN
METHOD:PUBLISH
BEGIN:VEVENT
UID:20177@www.tekstilcirehberi.com
DTSTAMP:20260419T153914Z
SUMMARY:TÜRKMEN TEXTILE EXPO
DTSTART;VALUE=DATE:20260604
DTEND;VALUE=DATE:20260605
LOCATION:AŞKABAT
DESCRIPTION:<p>TEKSTİL VE KONFEKSİYON ÜRÜNLERİ VE TEKNOLOJİLERİ</p>
END:VEVENT
END:VCALENDAR
