BEGIN:VCALENDAR
VERSION:2.0
PRODID:-//Tekstilci//Etkinlikler//TR
CALSCALE:GREGORIAN
METHOD:PUBLISH
BEGIN:VEVENT
UID:20178@www.tekstilcirehberi.com
DTSTAMP:20260419T154145Z
SUMMARY:THE FOOT HEALTH CONFERENCE 2026
DTSTART;VALUE=DATE:20260609
DTEND;VALUE=DATE:20260611
LOCATION:LONDRA
DESCRIPTION:<p>MEDİKAL EKİPMAN VE TEKSTİL</p>
END:VEVENT
END:VCALENDAR
