BEGIN:VCALENDAR
VERSION:2.0
PRODID:-//Tekstilci//Etkinlikler//TR
CALSCALE:GREGORIAN
METHOD:PUBLISH
BEGIN:VEVENT
UID:20182@www.tekstilcirehberi.com
DTSTAMP:20260419T160709Z
SUMMARY:HOMETEX SUMMER
DTSTART;VALUE=DATE:20260624
DTEND;VALUE=DATE:20260626
LOCATION:BAD SALZUFLEN
DESCRIPTION:<p>Ev Tekstili</p>
END:VEVENT
END:VCALENDAR
