BEGIN:VCALENDAR
VERSION:2.0
PRODID:-//Tekstilci//Etkinlikler//TR
CALSCALE:GREGORIAN
METHOD:PUBLISH
BEGIN:VEVENT
UID:20184@www.tekstilcirehberi.com
DTSTAMP:20260419T162401Z
SUMMARY:SPLASH PARIS 2026
DTSTART;VALUE=DATE:20260627
DTEND;VALUE=DATE:20260630
LOCATION:PARİS
DESCRIPTION:<p>TEKSTİL\, KONFEKSİYON\, HAZIR GİYİM\, DERİ VE TEKNOLOJİLERİ</p>
END:VEVENT
END:VCALENDAR
