BEGIN:VCALENDAR
VERSION:2.0
PRODID:-//Tekstilci//Etkinlikler//TR
CALSCALE:GREGORIAN
METHOD:PUBLISH
BEGIN:VEVENT
UID:20186@www.tekstilcirehberi.com
DTSTAMP:20260419T222522Z
SUMMARY:TRENDSET SOMMER 2026
DTSTART;VALUE=DATE:20260711
DTEND;VALUE=DATE:20260714
LOCATION:MÜNİH
DESCRIPTION:<p>Bijuteri\, Gümüş\, Dekoratif Eşyalar\, Hediyelik Oyuncak\, Ev Tekstili\, Mutfak ve Bahçe Ürünleri</p>
END:VEVENT
END:VCALENDAR
