BEGIN:VCALENDAR
VERSION:2.0
PRODID:-//Tekstilci//Etkinlikler//TR
CALSCALE:GREGORIAN
METHOD:PUBLISH
BEGIN:VEVENT
UID:20190@www.tekstilcirehberi.com
DTSTAMP:20260419T161223Z
SUMMARY:COLOMBIAMODA
DTSTART;VALUE=DATE:20260728
DTEND;VALUE=DATE:20260731
LOCATION:MEDELLİN
DESCRIPTION:<p>TEKSTİL\, KONFEKSİYON\, HAZIR GİYİM</p>
END:VEVENT
END:VCALENDAR
