BEGIN:VCALENDAR
VERSION:2.0
PRODID:-//Tekstilci//Etkinlikler//TR
CALSCALE:GREGORIAN
METHOD:PUBLISH
BEGIN:VEVENT
UID:20195@www.tekstilcirehberi.com
DTSTAMP:20260419T161520Z
SUMMARY:ACLE-2026 / ALL CHİNA EXHİBİTİON LEATHER
DTSTART;VALUE=DATE:20260901
DTEND;VALUE=DATE:20260904
LOCATION:ŞANGAY
DESCRIPTION:<p>Tekstil\, Konfeksiyon\, Hazır Giyim\, Deri ve Teknolojileri</p>
END:VEVENT
END:VCALENDAR
