BEGIN:VCALENDAR
VERSION:2.0
PRODID:-//Tekstilci//Etkinlikler//TR
CALSCALE:GREGORIAN
METHOD:PUBLISH
BEGIN:VEVENT
UID:20228@www.tekstilcirehberi.com
DTSTAMP:20260419T173622Z
SUMMARY:MUNİCH FABRIC START 2026-1
DTSTART;VALUE=DATE:20260127
DTEND;VALUE=DATE:20260130
LOCATION:MÜNİH
DESCRIPTION:<p>Tekstil\, Konfeksiyon\, Hazır Giyim\, Deri ve Teknolojileri</p>
END:VEVENT
END:VCALENDAR
