BEGIN:VCALENDAR
VERSION:2.0
PRODID:-//Tekstilci//Etkinlikler//TR
CALSCALE:GREGORIAN
METHOD:PUBLISH
BEGIN:VEVENT
UID:20231@www.tekstilcirehberi.com
DTSTAMP:20260419T174944Z
SUMMARY:PREMIERE VISION PARIS (MANUFACTURİNG) 2026-1
DTSTART;VALUE=DATE:20260203
DTEND;VALUE=DATE:20260206
LOCATION:PARİS
DESCRIPTION:<p>Tekstil\,  Konfeksiyon\, Hazır Giyim\, Deri ve Teknolojileri</p>
END:VEVENT
END:VCALENDAR
